BEGIN:VCALENDAR
VERSION:2.0
PRODID:-//DIGITAL FACTORY//EVENTS MAKER V1.6.14//EN
CALSCALE:GREGORIAN
BEGIN:VEVENT
DTEND:20211017
UID:60389886cb1e2
DTSTAMP:20210226T064318Z
DESCRIPTION:The one night of the year that Northside goes formal! Theme to be advised.  Members and Visitors Welcome. Our AGM will be held on Sunday 17th
URL;VALUE=URI:https://northsideclub.org.au/events/event/tie-and-tiara-gala-night/
SUMMARY:Tie &amp\; Tiara - AGM
DTSTART:20211016
END:VEVENT
END:VCALENDAR
