BEGIN:VCALENDAR
VERSION:2.0
PRODID:-//DIGITAL FACTORY//EVENTS MAKER V1.6.14//EN
CALSCALE:GREGORIAN
BEGIN:VEVENT
DTEND:20211122
UID:6038986fbde29
DTSTAMP:20210226T064255Z
DESCRIPTION:Enjoy a Long Happy Hour at Northside  Members and Visitors Welcome
URL;VALUE=URI:https://northsideclub.org.au/events/event/social-weekend-long-happy-hour/
SUMMARY:Social Weekend - Long Happy Hour
DTSTART:20211121
END:VEVENT
END:VCALENDAR
