BEGIN:VCALENDAR
VERSION:2.0
PRODID:-//DIGITAL FACTORY//EVENTS MAKER V1.6.14//EN
CALSCALE:GREGORIAN
BEGIN:VEVENT
DTEND:20210614
UID:6038990f1a104
DTSTAMP:20210226T064535Z
DESCRIPTION:Sit &amp\; Bitch / Indoor Bowls / BYO Pizza  Members and Visitors Welcome
URL;VALUE=URI:https://northsideclub.org.au/events/event/queens-birthday-we-pizza-night/
SUMMARY:Queens Birthday
DTSTART:20210612
END:VEVENT
END:VCALENDAR
