BEGIN:VCALENDAR
VERSION:2.0
PRODID:-//DIGITAL FACTORY//EVENTS MAKER V1.6.14//EN
CALSCALE:GREGORIAN
BEGIN:VEVENT
DTEND:20211231
UID:6038983f5e2ac
DTSTAMP:20210226T064207Z
DESCRIPTION:Celebrate the New Year at the Northside Country Club. Theme to be advised.  Visitors Welcome this Weekend
URL;VALUE=URI:https://northsideclub.org.au/events/event/new-years-eve-party-2/
SUMMARY:New Years Eve - New Year
DTSTART:20211231
END:VEVENT
END:VCALENDAR
