BEGIN:VCALENDAR
VERSION:2.0
PRODID:-//DIGITAL FACTORY//EVENTS MAKER V1.6.14//EN
CALSCALE:GREGORIAN
BEGIN:VEVENT
DTEND:20210516
UID:6038992e86ad1
DTSTAMP:20210226T064606Z
DESCRIPTION:Enjoy a match or two of Fishka - all skill levels catered for! The Pizza Oven will be fired up\, BYO Pizza for dinner.  Members and Visitors Welcome.
URL;VALUE=URI:https://northsideclub.org.au/events/event/movie-night/
SUMMARY:Fishka and BYO Casserole
DTSTART:20210515
END:VEVENT
END:VCALENDAR
