BEGIN:VCALENDAR
VERSION:2.0
PRODID:-//DIGITAL FACTORY//EVENTS MAKER V1.6.14//EN
CALSCALE:GREGORIAN
BEGIN:VEVENT
DTEND:20210919
UID:603898f9d6dd2
DTSTAMP:20210226T064513Z
DESCRIPTION:Celebrate Footy - Games and More. Watch the big match live on the wide screen TV.
URL;VALUE=URI:https://northsideclub.org.au/events/event/footy-night/
SUMMARY:Footy Night
DTSTART:20210918
END:VEVENT
END:VCALENDAR
