BEGIN:VCALENDAR
VERSION:2.0
PRODID:-//DIGITAL FACTORY//EVENTS MAKER V1.6.14//EN
CALSCALE:GREGORIAN
BEGIN:VEVENT
DTEND:20211102
UID:603898c97b7b0
DTSTAMP:20210226T064425Z
DESCRIPTION:Sports Weekend\, Norm and Val Petanque plus lots of other activities.   Members and Visitors Welcome.
URL;VALUE=URI:https://northsideclub.org.au/events/event/cup-weekend-petanque/
SUMMARY:Melbourne Cup Weekend
DTSTART:20211030
END:VEVENT
END:VCALENDAR
