BEGIN:VCALENDAR
VERSION:2.0
PRODID:-//DIGITAL FACTORY//EVENTS MAKER V1.6.14//EN
CALSCALE:GREGORIAN
BEGIN:VEVENT
DTEND:20210718
UID:603898b3b4c83
DTSTAMP:20210226T064403Z
DESCRIPTION:Missed Christmas last year due to the pandemic? Now let's make up for it with this special mid year event!  Members and Visitors Welcome.
URL;VALUE=URI:https://northsideclub.org.au/events/event/club-social-weekend/
SUMMARY:Christmas in July - Spit Roast
DTSTART:20210717
END:VEVENT
END:VCALENDAR
