BEGIN:VCALENDAR
VERSION:2.0
PRODID:-//DIGITAL FACTORY//EVENTS MAKER V1.6.14//EN
CALSCALE:GREGORIAN
BEGIN:VEVENT
DTEND:20210822
UID:6038989c4b968
DTSTAMP:20210226T064340Z
DESCRIPTION:What can we say - it will be a blast!  Members and Visitors Welcome. 
URL;VALUE=URI:https://northsideclub.org.au/events/event/club-social-weekend-2/
SUMMARY:Games and Curry Night
DTSTART:20210821
END:VEVENT
END:VCALENDAR
