BEGIN:VCALENDAR
VERSION:2.0
PRODID:-//DIGITAL FACTORY//EVENTS MAKER V1.6.14//EN
CALSCALE:GREGORIAN
BEGIN:VEVENT
DTEND:20211212
UID:6038985458f86
DTSTAMP:20210226T064228Z
DESCRIPTION:Celebrate Christmas Northside Style!  Visitors Welcome this Weekend   &nbsp\;    &nbsp\;
URL;VALUE=URI:https://northsideclub.org.au/events/event/christmas-celebrations-and-progressive-dinner/
SUMMARY:Christmas Progressive Dinner
DTSTART:20211211
END:VEVENT
END:VCALENDAR
