BEGIN:VCALENDAR
VERSION:2.0
PRODID:-//DIGITAL FACTORY//EVENTS MAKER V1.6.14//EN
CALSCALE:GREGORIAN
BEGIN:VEVENT
DTEND:20211018
UID:603898dfbbad0
DTSTAMP:20210226T064447Z
DESCRIPTION:The Northside Country Club Inc. Annual General Meeting starts at 11am in the club house.  All members are encouraged to attend.    &nbsp\;
URL;VALUE=URI:https://northsideclub.org.au/events/event/annual-general-meeting/
SUMMARY:Annual General Meeting
DTSTART:20211018
END:VEVENT
END:VCALENDAR
